BEGIN:VCALENDAR
VERSION:2.0
PRODID:-//Resource Center for Parents and Children - Fairbanks, AK - ECPv6.15.15//NONSGML v1.0//EN
CALSCALE:GREGORIAN
METHOD:PUBLISH
X-WR-CALNAME:Resource Center for Parents and Children - Fairbanks, AK
X-ORIGINAL-URL:https://www.rcpcfairbanks.org
X-WR-CALDESC:Events for Resource Center for Parents and Children - Fairbanks, AK
REFRESH-INTERVAL;VALUE=DURATION:PT1H
X-Robots-Tag:noindex
X-PUBLISHED-TTL:PT1H
BEGIN:VTIMEZONE
TZID:America/Anchorage
BEGIN:DAYLIGHT
TZOFFSETFROM:-0900
TZOFFSETTO:-0800
TZNAME:AKDT
DTSTART:20240310T110000
END:DAYLIGHT
BEGIN:STANDARD
TZOFFSETFROM:-0800
TZOFFSETTO:-0900
TZNAME:AKST
DTSTART:20241103T100000
END:STANDARD
BEGIN:DAYLIGHT
TZOFFSETFROM:-0900
TZOFFSETTO:-0800
TZNAME:AKDT
DTSTART:20250309T110000
END:DAYLIGHT
BEGIN:STANDARD
TZOFFSETFROM:-0800
TZOFFSETTO:-0900
TZNAME:AKST
DTSTART:20251102T100000
END:STANDARD
BEGIN:DAYLIGHT
TZOFFSETFROM:-0900
TZOFFSETTO:-0800
TZNAME:AKDT
DTSTART:20260308T110000
END:DAYLIGHT
BEGIN:STANDARD
TZOFFSETFROM:-0800
TZOFFSETTO:-0900
TZNAME:AKST
DTSTART:20261101T100000
END:STANDARD
END:VTIMEZONE
BEGIN:VEVENT
DTSTART;TZID=America/Anchorage:20250605T173000
DTEND;TZID=America/Anchorage:20250605T183000
DTSTAMP:20260423T221952
CREATED:20250414T050709Z
LAST-MODIFIED:20250414T050709Z
UID:3257-1749144600-1749148200@www.rcpcfairbanks.org
SUMMARY:Child Safety Series – A Discussion on Youth with Problematic Sexual Behavior (YPSB)
DESCRIPTION:A Discussion on YPSB – A conversation on the topic of youth with problematic sexual behavior \nRegister here \nAll classes are held via Zoom. \nPlease visit rcpcfairbanks.org\, click here\, or call (907)456-9017 to register.
URL:https://www.rcpcfairbanks.org/event/child-safety-series-a-discussion-on-youth-with-problematic-sexual-behavior-ypsb/
LOCATION:Zoom Online Class
ATTACH;FMTTYPE=image/jpeg:https://www.rcpcfairbanks.org/wp-content/uploads/2025/04/MayJuneJuly-RCPC-Classes.jpg
ORGANIZER;CN="Resource Center for Parents and Children":MAILTO:rcpc@rcpcfairbanks.org
END:VEVENT
END:VCALENDAR