BEGIN:VCALENDAR
VERSION:2.0
PRODID:-//Resource Center for Parents and Children - Fairbanks, AK - ECPv6.15.15//NONSGML v1.0//EN
CALSCALE:GREGORIAN
METHOD:PUBLISH
X-ORIGINAL-URL:https://www.rcpcfairbanks.org
X-WR-CALDESC:Events for Resource Center for Parents and Children - Fairbanks, AK
REFRESH-INTERVAL;VALUE=DURATION:PT1H
X-Robots-Tag:noindex
X-PUBLISHED-TTL:PT1H
BEGIN:VTIMEZONE
TZID:America/Anchorage
BEGIN:DAYLIGHT
TZOFFSETFROM:-0900
TZOFFSETTO:-0800
TZNAME:AKDT
DTSTART:20220313T110000
END:DAYLIGHT
BEGIN:STANDARD
TZOFFSETFROM:-0800
TZOFFSETTO:-0900
TZNAME:AKST
DTSTART:20221106T100000
END:STANDARD
BEGIN:DAYLIGHT
TZOFFSETFROM:-0900
TZOFFSETTO:-0800
TZNAME:AKDT
DTSTART:20230312T110000
END:DAYLIGHT
BEGIN:STANDARD
TZOFFSETFROM:-0800
TZOFFSETTO:-0900
TZNAME:AKST
DTSTART:20231105T100000
END:STANDARD
BEGIN:DAYLIGHT
TZOFFSETFROM:-0900
TZOFFSETTO:-0800
TZNAME:AKDT
DTSTART:20240310T110000
END:DAYLIGHT
BEGIN:STANDARD
TZOFFSETFROM:-0800
TZOFFSETTO:-0900
TZNAME:AKST
DTSTART:20241103T100000
END:STANDARD
END:VTIMEZONE
BEGIN:VEVENT
DTSTART;TZID=America/Anchorage:20230216T173000
DTEND;TZID=America/Anchorage:20230216T183000
DTSTAMP:20260420T142420
CREATED:20230124T005351Z
LAST-MODIFIED:20230124T005351Z
UID:1154-1676568600-1676572200@www.rcpcfairbanks.org
SUMMARY:RCPC February Board Meeting
DESCRIPTION:
URL:https://www.rcpcfairbanks.org/event/rcpc-february-board-meeting/
LOCATION:Resource Center for Parents and Children\, 726 26th Ave Suite 2\, Fairbanks\, AK\, 99701\, United States
ATTACH;FMTTYPE=image/png:https://www.rcpcfairbanks.org/wp-content/uploads/2022/08/03E20C65-F901-4EC2-8594-6F1D8A978BBF.png
ORGANIZER;CN="Resource Center for Parents and Children":MAILTO:rcpc@rcpcfairbanks.org
END:VEVENT
END:VCALENDAR