BEGIN:VCALENDAR
VERSION:2.0
PRODID:-//Resource Center for Parents and Children - Fairbanks, AK - ECPv6.15.15//NONSGML v1.0//EN
CALSCALE:GREGORIAN
METHOD:PUBLISH
X-ORIGINAL-URL:https://www.rcpcfairbanks.org
X-WR-CALDESC:Events for Resource Center for Parents and Children - Fairbanks, AK
REFRESH-INTERVAL;VALUE=DURATION:PT1H
X-Robots-Tag:noindex
X-PUBLISHED-TTL:PT1H
BEGIN:VTIMEZONE
TZID:America/Anchorage
BEGIN:DAYLIGHT
TZOFFSETFROM:-0900
TZOFFSETTO:-0800
TZNAME:AKDT
DTSTART:20220313T110000
END:DAYLIGHT
BEGIN:STANDARD
TZOFFSETFROM:-0800
TZOFFSETTO:-0900
TZNAME:AKST
DTSTART:20221106T100000
END:STANDARD
BEGIN:DAYLIGHT
TZOFFSETFROM:-0900
TZOFFSETTO:-0800
TZNAME:AKDT
DTSTART:20230312T110000
END:DAYLIGHT
BEGIN:STANDARD
TZOFFSETFROM:-0800
TZOFFSETTO:-0900
TZNAME:AKST
DTSTART:20231105T100000
END:STANDARD
BEGIN:DAYLIGHT
TZOFFSETFROM:-0900
TZOFFSETTO:-0800
TZNAME:AKDT
DTSTART:20240310T110000
END:DAYLIGHT
BEGIN:STANDARD
TZOFFSETFROM:-0800
TZOFFSETTO:-0900
TZNAME:AKST
DTSTART:20241103T100000
END:STANDARD
END:VTIMEZONE
BEGIN:VEVENT
DTSTART;TZID=America/Anchorage:20230131T173000
DTEND;TZID=America/Anchorage:20230131T190000
DTSTAMP:20260421T205949
CREATED:20221227T231746Z
LAST-MODIFIED:20221227T231746Z
UID:1066-1675186200-1675191600@www.rcpcfairbanks.org
SUMMARY:Budgeting for Healthy Meals
DESCRIPTION:Budgeting for Healthy Meals \nTuesday\, January 31st\, 2023\n5:30p-7:00p\n520 5th Ave\, Fairbanks\, AK \nLearn how to feed your family wholesome foods while saving money at the grocery store.  Experience the ease of a pressure cooker and sample a nutritious meal made in minutes! \nAttend the class for a chance to win a FREE Instant Pot! \nCall to sign up for our free class and learn new tips and tricks regarding healthy eating! 907-456-9030
URL:https://www.rcpcfairbanks.org/event/budgeting-for-healthy-meals-2/
LOCATION:520 5th Ave\, 520 5th Ave\, Fairbank\, 99701\, United States
ATTACH;FMTTYPE=image/jpeg:https://www.rcpcfairbanks.org/wp-content/uploads/2022/09/healthy-food-background-fruits-vegetables-cereal-nuts-superfood-dietary-balanced-vegetarian-eating-products-kitchen-143677456.jpg
ORGANIZER;CN="Resource Center for Parents and Children":MAILTO:rcpc@rcpcfairbanks.org
END:VEVENT
END:VCALENDAR